Package: GSE159526 Version: 1.14.0 Command: /home/biocbuild/bbs-3.21-bioc/R/bin/R CMD build --keep-empty-dirs --no-resave-data GSE159526 StartedAt: 2025-10-02 11:19:39 -0400 (Thu, 02 Oct 2025) EndedAt: 2025-10-02 11:19:44 -0400 (Thu, 02 Oct 2025) EllapsedTime: 5.7 seconds RetCode: 0 Status: OK PackageFile: GSE159526_1.14.0.tar.gz PackageFileSize: 296.9 KiB