Package: EpipwR.data Version: 1.2.0 Command: /home/biocbuild/bbs-3.21-bioc/R/bin/R CMD INSTALL EpipwR.data StartedAt: 2025-10-14 10:57:32 -0400 (Tue, 14 Oct 2025) EndedAt: 2025-10-14 10:57:34 -0400 (Tue, 14 Oct 2025) EllapsedTime: 1.2 seconds RetCode: 0 Status: OK