Package: EGSEAdata Version: 1.36.0 Command: /home/biocbuild/bbs-3.21-bioc/R/bin/R CMD INSTALL EGSEAdata StartedAt: 2025-10-09 10:56:00 -0400 (Thu, 09 Oct 2025) EndedAt: 2025-10-09 10:56:04 -0400 (Thu, 09 Oct 2025) EllapsedTime: 3.9 seconds RetCode: 0 Status: OK