Package: EGSEAdata Version: 1.36.0 Command: /home/biocbuild/bbs-3.21-bioc/R/bin/R CMD build --keep-empty-dirs --no-resave-data EGSEAdata StartedAt: 2025-10-09 11:14:48 -0400 (Thu, 09 Oct 2025) EndedAt: 2025-10-09 11:14:54 -0400 (Thu, 09 Oct 2025) EllapsedTime: 5.6 seconds RetCode: 0 Status: OK PackageFile: EGSEAdata_1.36.0.tar.gz PackageFileSize: 66.58 MiB