Package: DvDdata Version: 1.44.0 Command: /home/biocbuild/bbs-3.21-bioc/R/bin/R CMD INSTALL DvDdata StartedAt: 2025-10-16 10:55:19 -0400 (Thu, 16 Oct 2025) EndedAt: 2025-10-16 10:55:26 -0400 (Thu, 16 Oct 2025) EllapsedTime: 7.1 seconds RetCode: 0 Status: OK