Package: DvDdata Version: 1.44.0 Command: /home/biocbuild/bbs-3.21-bioc/R/bin/R CMD build --keep-empty-dirs --no-resave-data DvDdata StartedAt: 2025-10-16 11:14:38 -0400 (Thu, 16 Oct 2025) EndedAt: 2025-10-16 11:14:52 -0400 (Thu, 16 Oct 2025) EllapsedTime: 13.2 seconds RetCode: 0 Status: OK PackageFile: DvDdata_1.44.0.tar.gz PackageFileSize: 43.89 MiB