Package: DMRcatedata Version: 2.26.0 Command: /home/biocbuild/bbs-3.21-bioc/R/bin/R CMD INSTALL DMRcatedata StartedAt: 2025-10-16 11:05:04 -0400 (Thu, 16 Oct 2025) EndedAt: 2025-10-16 11:05:40 -0400 (Thu, 16 Oct 2025) EllapsedTime: 36.2 seconds RetCode: 0 Status: OK