Package: DMRcatedata Version: 2.26.0 Command: /home/biocbuild/bbs-3.21-bioc/R/bin/R CMD build --keep-empty-dirs --no-resave-data DMRcatedata StartedAt: 2025-10-16 11:14:00 -0400 (Thu, 16 Oct 2025) EndedAt: 2025-10-16 11:14:59 -0400 (Thu, 16 Oct 2025) EllapsedTime: 58.8 seconds RetCode: 0 Status: OK PackageFile: DMRcatedata_2.26.0.tar.gz PackageFileSize: 120.4 KiB