Package: CoSIAdata Version: 1.8.0 Command: /home/biocbuild/bbs-3.21-bioc/R/bin/R CMD INSTALL CoSIAdata StartedAt: 2025-09-30 10:57:15 -0400 (Tue, 30 Sep 2025) EndedAt: 2025-09-30 10:57:31 -0400 (Tue, 30 Sep 2025) EllapsedTime: 16.0 seconds RetCode: 0 Status: OK