Package: CoSIAdata Version: 1.8.0 Command: /home/biocbuild/bbs-3.21-bioc/R/bin/R CMD build --keep-empty-dirs --no-resave-data CoSIAdata StartedAt: 2025-09-30 11:09:58 -0400 (Tue, 30 Sep 2025) EndedAt: 2025-09-30 11:10:21 -0400 (Tue, 30 Sep 2025) EllapsedTime: 22.8 seconds RetCode: 0 Status: OK PackageFile: CoSIAdata_1.8.0.tar.gz PackageFileSize: 296.4 KiB