Package: CluMSIDdata Version: 1.24.0 Command: /home/biocbuild/bbs-3.21-bioc/R/bin/R CMD check --install=check:CluMSIDdata.install-out.txt --library=/home/biocbuild/bbs-3.21-bioc/R/site-library --timings CluMSIDdata_1.24.0.tar.gz StartedAt: 2025-10-16 12:04:40 -0400 (Thu, 16 Oct 2025) EndedAt: 2025-10-16 12:04:52 -0400 (Thu, 16 Oct 2025) EllapsedTime: 12.3 seconds RetCode: 0 Status: OK CheckDir: CluMSIDdata.Rcheck Warnings: 0