Package: ChimpHumanBrainData Version: 1.46.0 Command: /home/biocbuild/bbs-3.21-bioc/R/bin/R CMD check --install=check:ChimpHumanBrainData.install-out.txt --library=/home/biocbuild/bbs-3.21-bioc/R/site-library --timings ChimpHumanBrainData_1.46.0.tar.gz StartedAt: 2025-09-30 12:02:50 -0400 (Tue, 30 Sep 2025) EndedAt: 2025-09-30 12:03:53 -0400 (Tue, 30 Sep 2025) EllapsedTime: 62.3 seconds RetCode: 0 Status: OK CheckDir: ChimpHumanBrainData.Rcheck Warnings: 0