Package: COSMIC.67 Version: 1.44.0 Command: /home/biocbuild/bbs-3.21-bioc/R/bin/R CMD check --install=check:COSMIC.67.install-out.txt --library=/home/biocbuild/bbs-3.21-bioc/R/site-library --timings COSMIC.67_1.44.0.tar.gz StartedAt: 2025-10-02 12:06:36 -0400 (Thu, 02 Oct 2025) EndedAt: 2025-10-02 12:11:44 -0400 (Thu, 02 Oct 2025) EllapsedTime: 307.4 seconds RetCode: 0 Status: OK CheckDir: COSMIC.67.Rcheck Warnings: 0