Package: alternativeSplicingEvents.hg38 Version: 1.1.0 Command: /home/biocbuild/bbs-3.21-bioc/R/bin/R CMD check --install=check:alternativeSplicingEvents.hg38.install-out.txt --library=/home/biocbuild/bbs-3.21-bioc/R/site-library --timings alternativeSplicingEvents.hg38_1.1.0.tar.gz StartedAt: 2025-10-15 06:03:35 -0400 (Wed, 15 Oct 2025) EndedAt: 2025-10-15 06:04:34 -0400 (Wed, 15 Oct 2025) EllapsedTime: 59.0 seconds RetCode: 0 Status: OK CheckDir: alternativeSplicingEvents.hg38.Rcheck Warnings: 0