Package: PANTHER.db Version: 1.0.12 Command: /home/biocbuild/bbs-3.21-bioc/R/bin/R CMD INSTALL PANTHER.db StartedAt: 2025-10-08 06:00:19 -0400 (Wed, 08 Oct 2025) EndedAt: 2025-10-08 06:00:37 -0400 (Wed, 08 Oct 2025) EllapsedTime: 18.3 seconds RetCode: 0 Status: OK