Package: GenomicState Version: 0.99.16 Command: /home/biocbuild/bbs-3.21-bioc/R/bin/R CMD INSTALL GenomicState StartedAt: 2025-09-24 06:00:22 -0400 (Wed, 24 Sep 2025) EndedAt: 2025-09-24 06:00:55 -0400 (Wed, 24 Sep 2025) EllapsedTime: 32.8 seconds RetCode: 0 Status: OK