Package: GenomicState Version: 0.99.16 Command: /home/biocbuild/bbs-3.21-bioc/R/bin/R CMD build --keep-empty-dirs --no-resave-data GenomicState StartedAt: 2025-09-24 06:01:32 -0400 (Wed, 24 Sep 2025) EndedAt: 2025-09-24 06:03:34 -0400 (Wed, 24 Sep 2025) EllapsedTime: 122.0 seconds RetCode: 0 Status: OK PackageFile: GenomicState_0.99.16.tar.gz PackageFileSize: 921.4 KiB