Package: CTCF Version: 0.99.11 Command: /home/biocbuild/bbs-3.21-bioc/R/bin/R CMD build --keep-empty-dirs --no-resave-data CTCF StartedAt: 2025-09-24 06:01:11 -0400 (Wed, 24 Sep 2025) EndedAt: 2025-09-24 06:02:01 -0400 (Wed, 24 Sep 2025) EllapsedTime: 49.6 seconds RetCode: 0 Status: OK PackageFile: CTCF_0.99.11.tar.gz PackageFileSize: 3.011 MiB