Package: HDF5Array Version: 1.36.0 Command: /home/biocbuild/bbs-3.21-bioc/R/bin/R CMD check --test-dir=longtests --no-stop-on-test-error --no-codoc --no-examples --no-manual --ignore-vignettes --check-subdirs=no HDF5Array_1.36.0.tar.gz StartedAt: 2025-10-11 16:14:31 -0400 (Sat, 11 Oct 2025) EndedAt: 2025-10-11 16:27:51 -0400 (Sat, 11 Oct 2025) EllapsedTime: 800.0 seconds RetCode: 0 Status: OK CheckDir: HDF5Array.Rcheck Warnings: 0