Package: RbowtieCuda Version: 1.0.10 Command: /home/biocbuild/bbs-3.21-bioc-gpu/R/bin/R CMD INSTALL RbowtieCuda StartedAt: 2025-10-16 08:46:21 -0000 (Thu, 16 Oct 2025) EndedAt: 2025-10-16 08:48:05 -0000 (Thu, 16 Oct 2025) EllapsedTime: 104.0 seconds RetCode: 0 Status: OK