Package: zlibbioc Version: 1.54.0 Command: /home/biocbuild/bbs-3.21-bioc/R/bin/R CMD build --keep-empty-dirs --no-resave-data zlibbioc StartedAt: 2025-10-15 20:34:15 -0400 (Wed, 15 Oct 2025) EndedAt: 2025-10-15 20:34:20 -0400 (Wed, 15 Oct 2025) EllapsedTime: 5.0 seconds RetCode: 0 Status: OK PackageFile: zlibbioc_1.54.0.tar.gz PackageFileSize: 373.9 KiB