Package: zlibbioc Version: 1.54.0 Command: /home/biocbuild/R/R/bin/R CMD build --keep-empty-dirs --no-resave-data zlibbioc StartedAt: 2025-10-14 05:47:47 -0000 (Tue, 14 Oct 2025) EndedAt: 2025-10-14 05:47:53 -0000 (Tue, 14 Oct 2025) EllapsedTime: 6.0 seconds RetCode: 0 Status: OK PackageFile: zlibbioc_1.54.0.tar.gz PackageFileSize: 398.6 KiB