Package: zlibbioc Version: 1.54.0 Command: /Library/Frameworks/R.framework/Resources/bin/R CMD INSTALL zlibbioc StartedAt: 2025-10-13 15:32:04 -0400 (Mon, 13 Oct 2025) EndedAt: 2025-10-13 15:32:10 -0400 (Mon, 13 Oct 2025) EllapsedTime: 5.7 seconds RetCode: 0 Status: OK