Package: zitools Version: 1.2.0 Command: /home/biocbuild/R/R/bin/R CMD build --keep-empty-dirs --no-resave-data zitools StartedAt: 2025-10-14 05:47:40 -0000 (Tue, 14 Oct 2025) EndedAt: 2025-10-14 05:51:08 -0000 (Tue, 14 Oct 2025) EllapsedTime: 208.5 seconds RetCode: 0 Status: OK PackageFile: zitools_1.2.0.tar.gz PackageFileSize: 248.2 KiB