Package: xenLite Version: 1.2.1 Command: /home/biocbuild/bbs-3.21-bioc/R/bin/R CMD INSTALL xenLite StartedAt: 2025-10-15 15:35:18 -0400 (Wed, 15 Oct 2025) EndedAt: 2025-10-15 15:35:51 -0400 (Wed, 15 Oct 2025) EllapsedTime: 33.7 seconds RetCode: 0 Status: OK