Package: xenLite Version: 1.2.1 Command: /home/biocbuild/bbs-3.21-bioc/R/bin/R CMD build --keep-empty-dirs --no-resave-data xenLite StartedAt: 2025-10-15 20:32:46 -0400 (Wed, 15 Oct 2025) EndedAt: 2025-10-15 20:33:44 -0400 (Wed, 15 Oct 2025) EllapsedTime: 58.0 seconds RetCode: 0 Status: OK PackageFile: xenLite_1.2.1.tar.gz PackageFileSize: 3.249 MiB