Package: xenLite Version: 1.2.1 Command: /home/biocbuild/R/R/bin/R CMD INSTALL xenLite StartedAt: 2025-10-13 20:51:59 -0000 (Mon, 13 Oct 2025) EndedAt: 2025-10-13 20:52:47 -0000 (Mon, 13 Oct 2025) EllapsedTime: 48.7 seconds RetCode: 0 Status: OK