Package: xenLite Version: 1.2.1 Command: /home/biocbuild/R/R/bin/R CMD build --keep-empty-dirs --no-resave-data xenLite StartedAt: 2025-10-14 05:45:54 -0000 (Tue, 14 Oct 2025) EndedAt: 2025-10-14 05:47:01 -0000 (Tue, 14 Oct 2025) EllapsedTime: 67.0 seconds RetCode: 1 Status: ERROR PackageFile: None PackageFileSize: NA