Package: xcore Version: 1.12.0 Command: /home/biocbuild/R/R/bin/R CMD build --keep-empty-dirs --no-resave-data xcore StartedAt: 2025-10-14 05:45:22 -0000 (Tue, 14 Oct 2025) EndedAt: 2025-10-14 05:47:31 -0000 (Tue, 14 Oct 2025) EllapsedTime: 129.1 seconds RetCode: 0 Status: OK PackageFile: xcore_1.12.0.tar.gz PackageFileSize: 2.415 MiB