Package: xcms Version: 4.6.4 Command: rm -rf xcms.buildbin-libdir && mkdir xcms.buildbin-libdir && /Users/biocbuild/BBS/utils/build-universal.sh xcms_4.6.4.tar.gz /Library/Frameworks/R.framework/Resources/bin/R xcms.buildbin-libdir StartedAt: 2025-10-14 15:03:44 -0400 (Tue, 14 Oct 2025) EndedAt: 2025-10-14 15:06:51 -0400 (Tue, 14 Oct 2025) EllapsedTime: 187.7 seconds RetCode: 0 Status: OK PackageFile: xcms_4.6.4.tgz PackageFileSize: 12.19 MiB