Package: xcms Version: 4.6.4 Command: /Library/Frameworks/R.framework/Resources/bin/R CMD build --keep-empty-dirs --no-resave-data xcms StartedAt: 2025-10-14 11:59:55 -0400 (Tue, 14 Oct 2025) EndedAt: 2025-10-14 12:05:57 -0400 (Tue, 14 Oct 2025) EllapsedTime: 361.3 seconds RetCode: 0 Status: OK PackageFile: xcms_4.6.4.tar.gz PackageFileSize: 9.33 MiB