Package: xcms Version: 4.6.4 Command: rm -rf xcms.buildbin-libdir && mkdir xcms.buildbin-libdir && /Users/biocbuild/BBS/utils/build-universal.sh xcms_4.6.4.tar.gz /Library/Frameworks/R.framework/Resources/bin/R xcms.buildbin-libdir StartedAt: 2025-10-15 21:02:20 -0400 (Wed, 15 Oct 2025) EndedAt: 2025-10-15 21:04:25 -0400 (Wed, 15 Oct 2025) EllapsedTime: 125.5 seconds RetCode: 0 Status: OK PackageFile: xcms_4.6.4.tgz PackageFileSize: 12.19 MiB