Package: xCell2 Version: 1.0.11 Command: /home/biocbuild/bbs-3.21-bioc/R/bin/R CMD INSTALL xCell2 StartedAt: 2025-10-15 15:29:13 -0400 (Wed, 15 Oct 2025) EndedAt: 2025-10-15 15:29:51 -0400 (Wed, 15 Oct 2025) EllapsedTime: 38.4 seconds RetCode: 0 Status: OK