Package: xCell2 Version: 1.0.11 Command: /home/biocbuild/R/R/bin/R CMD INSTALL xCell2 StartedAt: 2025-10-13 20:45:12 -0000 (Mon, 13 Oct 2025) EndedAt: 2025-10-13 20:46:06 -0000 (Mon, 13 Oct 2025) EllapsedTime: 54.5 seconds RetCode: 0 Status: OK