Package: xCell2 Version: 1.0.11 Command: /home/biocbuild/R/R/bin/R CMD build --keep-empty-dirs --no-resave-data xCell2 StartedAt: 2025-10-14 05:44:59 -0000 (Tue, 14 Oct 2025) EndedAt: 2025-10-14 05:48:55 -0000 (Tue, 14 Oct 2025) EllapsedTime: 235.3 seconds RetCode: 0 Status: OK PackageFile: xCell2_1.0.11.tar.gz PackageFileSize: 3.076 MiB