Package: wiggleplotr Version: 1.32.0 Command: /home/biocbuild/R/R/bin/R CMD INSTALL wiggleplotr StartedAt: 2025-10-13 20:41:12 -0000 (Mon, 13 Oct 2025) EndedAt: 2025-10-13 20:41:19 -0000 (Mon, 13 Oct 2025) EllapsedTime: 7.2 seconds RetCode: 0 Status: OK