Package: wiggleplotr Version: 1.32.0 Command: /home/biocbuild/R/R/bin/R CMD build --keep-empty-dirs --no-resave-data wiggleplotr StartedAt: 2025-10-14 05:44:28 -0000 (Tue, 14 Oct 2025) EndedAt: 2025-10-14 05:46:22 -0000 (Tue, 14 Oct 2025) EllapsedTime: 113.1 seconds RetCode: 1 Status: ERROR PackageFile: None PackageFileSize: NA