Package: widgetTools Version: 1.86.0 Command: /home/biocbuild/bbs-3.21-bioc/R/bin/R CMD build --keep-empty-dirs --no-resave-data widgetTools StartedAt: 2025-10-15 20:32:01 -0400 (Wed, 15 Oct 2025) EndedAt: 2025-10-15 20:32:09 -0400 (Wed, 15 Oct 2025) EllapsedTime: 8.0 seconds RetCode: 0 Status: OK PackageFile: widgetTools_1.86.0.tar.gz PackageFileSize: 227.7 KiB