Package: widgetTools Version: 1.86.0 Command: /Library/Frameworks/R.framework/Resources/bin/R CMD build --keep-empty-dirs --no-resave-data widgetTools StartedAt: 2025-10-13 23:34:33 -0400 (Mon, 13 Oct 2025) EndedAt: 2025-10-13 23:34:53 -0400 (Mon, 13 Oct 2025) EllapsedTime: 20.7 seconds RetCode: 0 Status: OK PackageFile: widgetTools_1.86.0.tar.gz PackageFileSize: 226.9 KiB