Package: widgetTools Version: 1.86.0 Command: rm -rf widgetTools.buildbin-libdir && mkdir widgetTools.buildbin-libdir && /Users/biocbuild/BBS/utils/build-universal.sh widgetTools_1.86.0.tar.gz /Library/Frameworks/R.framework/Resources/bin/R widgetTools.buildbin-libdir StartedAt: 2025-10-14 15:03:29 -0400 (Tue, 14 Oct 2025) EndedAt: 2025-10-14 15:03:44 -0400 (Tue, 14 Oct 2025) EllapsedTime: 14.2 seconds RetCode: 0 Status: OK PackageFile: widgetTools_1.86.0.tgz PackageFileSize: 448.6 KiB