Package: widgetTools Version: 1.86.0 Command: /home/biocbuild/R/R/bin/R CMD build --keep-empty-dirs --no-resave-data widgetTools StartedAt: 2025-10-14 05:44:22 -0000 (Tue, 14 Oct 2025) EndedAt: 2025-10-14 05:44:30 -0000 (Tue, 14 Oct 2025) EllapsedTime: 8.0 seconds RetCode: 0 Status: OK PackageFile: widgetTools_1.86.0.tar.gz PackageFileSize: 222.9 KiB