Package: widgetTools Version: 1.86.0 Command: /Library/Frameworks/R.framework/Resources/bin/R CMD build --keep-empty-dirs --no-resave-data widgetTools StartedAt: 2025-10-14 11:58:01 -0400 (Tue, 14 Oct 2025) EndedAt: 2025-10-14 11:58:15 -0400 (Tue, 14 Oct 2025) EllapsedTime: 14.6 seconds RetCode: 0 Status: OK PackageFile: widgetTools_1.86.0.tar.gz PackageFileSize: 227.8 KiB