Package: widgetTools Version: 1.86.0 Command: rm -rf widgetTools.buildbin-libdir && mkdir widgetTools.buildbin-libdir && /Users/biocbuild/BBS/utils/build-universal.sh widgetTools_1.86.0.tar.gz /Library/Frameworks/R.framework/Resources/bin/R widgetTools.buildbin-libdir StartedAt: 2025-10-15 21:02:03 -0400 (Wed, 15 Oct 2025) EndedAt: 2025-10-15 21:02:11 -0400 (Wed, 15 Oct 2025) EllapsedTime: 7.9 seconds RetCode: 0 Status: OK PackageFile: widgetTools_1.86.0.tgz PackageFileSize: 449.6 KiB