Package: weitrix Version: 1.20.0 Command: /home/biocbuild/bbs-3.21-bioc/R/bin/R CMD build --keep-empty-dirs --no-resave-data weitrix StartedAt: 2025-10-15 20:31:40 -0400 (Wed, 15 Oct 2025) EndedAt: 2025-10-15 20:40:09 -0400 (Wed, 15 Oct 2025) EllapsedTime: 509.7 seconds RetCode: 0 Status: OK PackageFile: weitrix_1.20.0.tar.gz PackageFileSize: 9.486 MiB