Package: weitrix Version: 1.20.0 Command: /home/biocbuild/R/R/bin/R CMD INSTALL weitrix StartedAt: 2025-10-13 21:11:55 -0000 (Mon, 13 Oct 2025) EndedAt: 2025-10-13 21:12:36 -0000 (Mon, 13 Oct 2025) EllapsedTime: 40.9 seconds RetCode: 0 Status: OK