Package: weitrix Version: 1.20.0 Command: /home/biocbuild/R/R/bin/R CMD build --keep-empty-dirs --no-resave-data weitrix StartedAt: 2025-10-14 05:44:08 -0000 (Tue, 14 Oct 2025) EndedAt: 2025-10-14 05:58:40 -0000 (Tue, 14 Oct 2025) EllapsedTime: 871.7 seconds RetCode: 0 Status: OK PackageFile: weitrix_1.20.0.tar.gz PackageFileSize: 8.557 MiB