Package: weitrix Version: 1.20.0 Command: /Library/Frameworks/R.framework/Resources/bin/R CMD INSTALL weitrix StartedAt: 2025-10-13 18:09:32 -0400 (Mon, 13 Oct 2025) EndedAt: 2025-10-13 18:10:05 -0400 (Mon, 13 Oct 2025) EllapsedTime: 33.5 seconds RetCode: 0 Status: OK