Package: webbioc Version: 1.80.0 Command: rm -rf webbioc.buildbin-libdir && mkdir webbioc.buildbin-libdir && /Users/biocbuild/BBS/utils/build-universal.sh webbioc_1.80.0.tar.gz /Library/Frameworks/R.framework/Resources/bin/R webbioc.buildbin-libdir StartedAt: 2025-10-14 15:03:22 -0400 (Tue, 14 Oct 2025) EndedAt: 2025-10-14 15:04:22 -0400 (Tue, 14 Oct 2025) EllapsedTime: 60.0 seconds RetCode: 0 Status: OK PackageFile: webbioc_1.80.0.tgz PackageFileSize: 310.4 KiB