Package: webbioc Version: 1.80.0 Command: /home/biocbuild/R/R/bin/R CMD INSTALL webbioc StartedAt: 2025-10-13 21:05:56 -0000 (Mon, 13 Oct 2025) EndedAt: 2025-10-13 21:06:26 -0000 (Mon, 13 Oct 2025) EllapsedTime: 30.1 seconds RetCode: 0 Status: OK