Package: webbioc Version: 1.80.0 Command: /Library/Frameworks/R.framework/Resources/bin/R CMD INSTALL webbioc StartedAt: 2025-10-13 17:47:30 -0400 (Mon, 13 Oct 2025) EndedAt: 2025-10-13 17:47:54 -0400 (Mon, 13 Oct 2025) EllapsedTime: 23.6 seconds RetCode: 0 Status: OK